BEGIN:VCALENDAR
VERSION:2.0
CALSCALE:GREGORIAN
METHOD:PUBLISH
PRODID://IRWA//404450
BEGIN:VEVENT
DTSTAMP:20260420T024320
VTIMEZONE:America/Denver
DTSTART:20251021T143000Z
DTEND:20251021T223000Z
UID:404450
SUMMARY:Pumps and Controls: Fundamentals and Applications - Ammon
LOCATION:Ammon Public Works, 3541 Ard Dr, Ammon, ID, 83406
DESCRIPTION:Pumps and Controls: Fundamentals and Applications - Ammon\n\n10/21/25 08:30 AM MST\n - 10/21/25 04:30 PM MST\Description:\nPumps and Controls: Fundamentals and Applications - Ammon\nIdaho Rural Water Association is pleased to have Layne Read, with DelcoWestern, present the training: Pumps and Controls: Fundamental and Applications. This course will cover the following principles:\n\n\n	Pump Basics\n	Motors\n	Well pit designs\n	Level controls and monitoring methods\n	Starting Methods including variable frequency starters\n	Controls - including SCADA\n	System Maintenance\n	Your pump questions\n\nInstructor: Layne Read, Delco Western\nContinuing Education Units (CEUs) Available: 0.6 Drinking Water/Wastewater\nCost: $120 IRWA Members/$210 Non-Members\nLunch is on your own.\n \Location:\nAmmon Public Works\n3541 Ard Dr\nAmmon, ID 83406
X-ALT-DESC;FMTTYPE=text/html:Pumps and Controls: Fundamentals and Applications - Ammon<br /><br />10/21/25 08:30 AM MST - 10/21/25 04:30 PM MST<br />Description:<br /><h2><strong>Pumps and Controls: Fundamentals and Applications - Ammon</strong></h2>
Idaho Rural Water Association is pleased to have Layne Read, with DelcoWestern, present the training: Pumps and Controls: Fundamental and Applications. This course will cover the following principles:

<ul>
	<li>Pump Basics</li>
	<li>Motors</li>
	<li>Well pit designs</li>
	<li>Level controls and monitoring methods</li>
	<li>Starting Methods including variable frequency starters</li>
	<li>Controls - including SCADA</li>
	<li>System Maintenance</li>
	<li>Your pump questions</li>
</ul>
<strong>Instructor: Layne Read</strong>, Delco Western<br />
<strong>Continuing Education Units (</strong><span data-scayt-word="CEUs" data-wsc-id="lhtay9ht1fltkw22l" data-wsc-lang="en_US"><strong>CEUs</strong></span><strong>) Available:</strong> 0.6 Drinking Water/Wastewater<br />
<strong>Cost:</strong> $120 <span data-scayt-word="IRWA" data-wsc-id="lhtay9l31xeez12vw" data-wsc-lang="en_US">IRWA</span> Members/$210 Non-Members<br />
Lunch is on your own.<br />
&nbsp;<br />Location:<br />Ammon Public Works<br />3541 Ard Dr<br />Ammon, ID 83406
PRIORITY:3
TRANSP:TRANSPARENT
BEGIN:VALARM
TRIGGER:-PT5M
ACTION:DISPLAY
DESCRIPTION:Reminder
END:VALARM
END:VEVENT
END:VCALENDAR
