BEGIN:VCALENDAR
VERSION:2.0
CALSCALE:GREGORIAN
METHOD:PUBLISH
PRODID://IRWA//404457
BEGIN:VEVENT
DTSTAMP:20260420T005607
VTIMEZONE:America/Denver
DTSTART:20251117T150000Z
DTEND:20251118T000000Z
UID:404457
SUMMARY:Backflow Assembly Tester Re-Certification Course - Boise 
LOCATION:Idaho Rural Water Association Technical Training Center , 6395 W Gowen Rd, Boise, ID, 83709
DESCRIPTION:Backflow Assembly Tester Re-Certification Course - Boise \n\n11/17/25 08:00 AM MST\n - 11/17/25 05:00 PM MST\Description:\nBackflow Assembly Tester Re-Certification Course - Boise\n\nRegister today for Backflow Assembly Tester (BAT) Recertification Training. This will be hands-on training! Students will have the opportunity to practice on all four assembly types, troubleshoot scenarios, and ask the instructor about common challenges encountered in the field. If you pass the tests, you will earn the needed 0.8 CEUs to keep your BAT license current. The class will be held at Idaho Rural Water Association's Technical Training Center in Boise. \n\nInstructor: Stacy Stuart, Stuart's Backflow\nContinuing Education Units (CEUs) Available: 0.8 BAT\nCost: $200\nLunch is on your own.\n \n\Location:\nIdaho Rural Water Association Technical Training Center \n6395 W Gowen Rd\nBoise, ID 83709
X-ALT-DESC;FMTTYPE=text/html:Backflow Assembly Tester Re-Certification Course - Boise <br /><br />11/17/25 08:00 AM MST - 11/17/25 05:00 PM MST<br />Description:<br /><h2><span style="font-family:arial,helvetica,sans-serif"><strong>Backflow Assembly Tester Re-Certification Course - Boise</strong></span></h2>

<div><span style="font-family:arial,helvetica,sans-serif">Register today for Backflow Assembly Tester (BAT) Recertification Training. This will be hands-on training! Students will have the opportunity to practice on all four assembly types, troubleshoot scenarios, and ask the instructor about common challenges encountered in the field. If you pass the tests, you will earn the needed 0.8 CEUs to keep your BAT license current. The class will be held at Idaho Rural Water Association's Technical Training Center in Boise.&nbsp;<br />
<br />
<strong>Instructor:</strong> Stacy Stuart, Stuart's Backflow<br />
<strong>Continuing Education Units (CEUs) Available: </strong>0.8 BAT<br />
<strong>Cost: </strong>$200<br />
Lunch is on your own.</span><br />
&nbsp;</div>
<br />Location:<br />Idaho Rural Water Association Technical Training Center <br />6395 W Gowen Rd<br />Boise, ID 83709
PRIORITY:3
TRANSP:TRANSPARENT
BEGIN:VALARM
TRIGGER:-PT5M
ACTION:DISPLAY
DESCRIPTION:Reminder
END:VALARM
END:VEVENT
END:VCALENDAR
