BEGIN:VCALENDAR
VERSION:2.0
CALSCALE:GREGORIAN
METHOD:PUBLISH
PRODID://IRWA//463393
BEGIN:VEVENT
DTSTAMP:20260420T005739
VTIMEZONE:America/Denver
DTSTART:20251105T153000Z
DTEND:20251105T233000Z
UID:463393
SUMMARY:Source Water Protection Workshop 2025 - Pocatello - Registration is closed.
LOCATION:Fairfield Inn and Suites, 205 Via Venitio, Pocatello, ID, 83201
DESCRIPTION:Source Water Protection Workshop 2025 - Pocatello - Registration is closed.\n\n11/05/25 08:30 AM MST\n - 11/05/25 04:30 PM MST\Description:\nSource Water Protection Workshop 2025 - Pocatello\n\nRegistration is now closed. Please consider attending the training on November 10th in Boise.\n\nThis is a discussion-based class with group work and interaction. This course is meant to help you protect the drinking water sources for your community. Bring your City Council, Mayors, city and county Planning and Zoning folks to help learn about source water protection. In this class we will:\n\n\n	Access online resources for your water system\n	Learn to use maps showing your drinking water protection area\n	Learn to identify potential contaminants that could impact you\n	Learn how susceptible your source is to risk\n	Review water quality data\n	Develop protection strategies and learn how to make a formal plan\n	Hear about Idaho regulatory news\n	Learn about Managed Aquifer Recharge in Idaho \n\n\nWorkshops are free and lunch is provided! Sponsored by DEQ.\n\nInstructors: Adrianna Cardoso, Luke Kawano, Ethan Jayne, and Courtnie Dawson, Idaho Rural Water Association and DEQ Personnel\nContinuing Education Units (CEUs) Available: 0.6 Drinking Water\nCost: FREE - Sponsored by Idaho Department of Environmental Quality\nLunch is provided.\n\Location:\nFairfield Inn and Suites\n205 Via Venitio\nPocatello, ID 83201
X-ALT-DESC;FMTTYPE=text/html:Source Water Protection Workshop 2025 - Pocatello - Registration is closed.<br /><br />11/05/25 08:30 AM MST - 11/05/25 04:30 PM MST<br />Description:<br /><h2><strong>Source Water Protection Workshop 2025 - Pocatello</strong></h2>

<p data-olk-copy-source="MessageBody">Registration is now closed. Please consider attending the training on November 10th in Boise.<br />
<br />
This is a discussion-based class with group work and interaction. This course is meant to help you protect the drinking water sources for your community. Bring your City Council, Mayors, city and county Planning and Zoning folks to help learn about source water protection. In this class we will:</p>

<ul type="disc">
	<li>Access online resources for your water system</li>
	<li>Learn to use maps showing your drinking water protection area</li>
	<li>Learn to identify potential contaminants that could impact you</li>
	<li>Learn how susceptible your source is to risk</li>
	<li>Review water quality data</li>
	<li>Develop protection strategies and learn how to make a formal plan</li>
	<li>Hear about Idaho regulatory news</li>
	<li>Learn about Managed Aquifer Recharge in Idaho&nbsp;</li>
</ul>

<p aria-hidden="true">Workshops are free and lunch is provided! Sponsored by DEQ.</p>

<p><strong>Instructors:</strong> Adrianna Cardoso, Luke Kawano, Ethan Jayne, and Courtnie Dawson, Idaho Rural Water Association and DEQ Personnel<br />
<strong>Continuing Education Units (CEUs) Available:</strong> 0.6 Drinking Water<br />
<strong>Cost: </strong>FREE - Sponsored by Idaho Department of Environmental Quality<br />
<strong>Lunch is provided.</strong></p>
<br />Location:<br />Fairfield Inn and Suites<br />205 Via Venitio<br />Pocatello, ID 83201
PRIORITY:3
TRANSP:TRANSPARENT
BEGIN:VALARM
TRIGGER:-PT5M
ACTION:DISPLAY
DESCRIPTION:Reminder
END:VALARM
END:VEVENT
END:VCALENDAR
