BEGIN:VCALENDAR
VERSION:2.0
CALSCALE:GREGORIAN
METHOD:PUBLISH
PRODID://IRWA//464876
BEGIN:VEVENT
DTSTAMP:20260420T024715
VTIMEZONE:America/Los_Angeles
DTSTART:20251112T163000Z
DTEND:20251113T003000Z
UID:464876
SUMMARY:Source Water Protection Workshop 2025 - Coeur d'Alene
LOCATION:Best Western Plus Coeur d'Alene Inn, 506 West Appleway Ave, Coeur d'Alene, ID, 83814
DESCRIPTION:Source Water Protection Workshop 2025 - Coeur d'Alene\n\n11/12/25 08:30 AM PST\n - 11/12/25 04:30 PM PST\Description:\nSource Water Protection Workshop 2025 - Coeur d'Alene\n\nPeople that register after 10/30/2025 are encouraged to bring a laptop or similar device since the printed individualized workshop material will not be available.  \n\nThis is a discussion-based class with group work and interaction. This course is meant to help you protect the drinking water sources for your community. Bring your City Council, Mayors, city and county Planning and Zoning folks to help learn about source water protection. In this class we will:\n\n\n	Access online resources for your water system\n	Learn to use maps showing your drinking water protection area\n	Learn to identify potential contaminants that could impact you\n	Learn how susceptible your source is to risk\n	Review water quality data\n	Develop protection strategies and learn how to make a formal plan\n	Hear about Idaho regulatory news\n	Learn about Managed Aquifer Recharge in Idaho \n\n\nWorkshops are free and lunch is provided! Sponsored by DEQ.\n\nInstructors: Adrianna Cardoso, Luke Kawano, Ethan Jayne, and Courtnie Dawson, Idaho Rural Water Association and DEQ Personnel\nContinuing Education Units (CEUs) Available: 0.6 Drinking Water\nCost: FREE - Sponsored by Idaho Department of Environmental Quality\nLunch is provided.\nNOTE: If this training reaches its capacity, there is plenty of room in the Moscow training.\n\Location:\nBest Western Plus Coeur d'Alene Inn\n506 West Appleway Ave\nCoeur d'Alene, ID 83814
X-ALT-DESC;FMTTYPE=text/html:Source Water Protection Workshop 2025 - Coeur d'Alene<br /><br />11/12/25 08:30 AM PST - 11/12/25 04:30 PM PST<br />Description:<br /><h2><strong>Source Water Protection Workshop 2025 - Coeur d'Alene</strong></h2>

<p data-olk-copy-source="MessageBody"><strong>People&nbsp;that register after 10/30/2025 are encouraged to bring a laptop or similar device since the printed individualized workshop material will not be available.&nbsp;&nbsp;</strong><br />
<br />
This is a discussion-based class with group work and interaction. This course is meant to help you protect the drinking water sources for your community. Bring your City Council, Mayors, city and county Planning and Zoning folks to help learn about source water protection. In this class we will:</p>

<ul type="disc">
	<li>Access online resources for your water system</li>
	<li>Learn to use maps showing your drinking water protection area</li>
	<li>Learn to identify potential contaminants that could impact you</li>
	<li>Learn how susceptible your source is to risk</li>
	<li>Review water quality data</li>
	<li>Develop protection strategies and learn how to make a formal plan</li>
	<li>Hear about Idaho regulatory news</li>
	<li>Learn about Managed Aquifer Recharge in Idaho&nbsp;</li>
</ul>

<p aria-hidden="true">Workshops are free and lunch is provided! Sponsored by DEQ.</p>

<p><strong>Instructors:</strong> Adrianna Cardoso, Luke Kawano, Ethan Jayne, and Courtnie Dawson, Idaho Rural Water Association&nbsp;and DEQ Personnel<br />
<strong>Continuing Education Units (CEUs) Available:</strong> 0.6 Drinking Water<br />
<strong>Cost: </strong>FREE - Sponsored by Idaho Department of Environmental Quality<br />
<strong>Lunch is provided.<br />
NOTE: If this training reaches its capacity, there is plenty of room in the Moscow training.</strong></p>
<br />Location:<br />Best Western Plus Coeur d'Alene Inn<br />506 West Appleway Ave<br />Coeur d'Alene, ID 83814
PRIORITY:3
TRANSP:TRANSPARENT
BEGIN:VALARM
TRIGGER:-PT5M
ACTION:DISPLAY
DESCRIPTION:Reminder
END:VALARM
END:VEVENT
END:VCALENDAR
