BEGIN:VCALENDAR
VERSION:2.0
CALSCALE:GREGORIAN
METHOD:PUBLISH
PRODID://IRWA//489777
BEGIN:VEVENT
DTSTAMP:20260419T093059
VTIMEZONE:America/Denver
DTSTART:20260701T143000Z
DTEND:20260701T223000Z
UID:489777
SUMMARY:Lagoons & Thickening & Anaerobic Digestion Basics - Coeur d'Alene
LOCATION:City of Coeur d'Alene Wastewater Treatment Plant, 765 W Hubbard Ave, Coeur d'Alene, ID, 83815
DESCRIPTION:Lagoons & Thickening & Anaerobic Digestion Basics - Coeur d'Alene\n\n07/01/26 08:30 AM MST\n - 07/01/26 04:30 PM MST\Description:\nLagoons, Thickening & Anaerobic Digestion Basics - Coeur d'Alene\n\nThis training will offer information about lagoons, thickening, and anaerobic digestion basics.\n\nLagoons: Learn the basics of operation and maintenance for lagoon systems. This course will discuss the food web and nutrient cycles throughout the limited control treatment of the lagoon system and cover the different zones, biology, and chemistry within the lagoon.\n\nThickening & Anaerobic Digestion Basics: This portion of the training will review common equipment that is used for the thickening process and the advantages and disadvantages of each. Learn the warning signs of digester upsets, why they occur, and what to watch for to avoid them.\n\nTour: This training will also include a tour of the City of Coeur d'Alene's Wastewater Treatment Plant.\nInstructor: John Schwartz, USABlueBook\nContiuing Education Units (CEUs) Available: 0.6 Wastewater\nCost: $125 IRWA Members / $215 Non-Members\nLunch is on your own.\Location:\nCity of Coeur d'Alene Wastewater Treatment Plant\n765 W Hubbard Ave\nCoeur d'Alene, ID 83815
X-ALT-DESC;FMTTYPE=text/html:Lagoons & Thickening & Anaerobic Digestion Basics - Coeur d'Alene<br /><br />07/01/26 08:30 AM MST - 07/01/26 04:30 PM MST<br />Description:<br /><p><span style="line-height:1"><span style="font-size:20px"><span style="font-family:tahoma,geneva,sans-serif"><strong data-olk-copy-source="MessageBody">Lagoons, Thickening &amp; Anaerobic Digestion Basics - Coeur d'Alene</strong></span></span><br />
<br />
<span style="font-size:14px"><span style="font-family:tahoma,geneva,sans-serif"><strong data-olk-copy-source="MessageBody">This training will offer information about lagoons, thickening, and anaerobic digestion basics.</strong></span></span></span></p>

<p><span style="line-height:1"><span style="font-size:14px"><span style="font-family:tahoma,geneva,sans-serif"><strong data-olk-copy-source="MessageBody">Lagoons:&nbsp;</strong>Learn the basics of operation and maintenance for lagoon systems. This course will discuss the food web and nutrient cycles throughout the limited control treatment of the lagoon system and cover&nbsp;the different zones, biology, and chemistry within the lagoon.<br />
<br />
<strong>Thickening &amp; Anaerobic Digestion Basics: </strong>This portion of the training will<strong>&nbsp;</strong>review common equipment that is used for the thickening process and the advantages and disadvantages of each. Learn the warning signs of digester&nbsp;upsets, why they occur, and what to watch for to avoid them.<br />
<br />
<strong>Tour: </strong>This training will also include a tour of the City of Coeur d'Alene's Wastewater Treatment Plant.</span></span></span></p>
<span style="font-size:14px"><span style="font-family:tahoma,geneva,sans-serif"><strong>Instructor:</strong> John Schwartz, USABlueBook<br />
<strong>Contiuing Education Units (CEUs) Available:</strong> 0.6 Wastewater<br />
<strong>Cost: </strong>$125 IRWA Members / $215 Non-Members<br />
Lunch is on your own.</span></span><br />Location:<br />City of Coeur d'Alene Wastewater Treatment Plant<br />765 W Hubbard Ave<br />Coeur d'Alene, ID 83815
PRIORITY:3
TRANSP:TRANSPARENT
BEGIN:VALARM
TRIGGER:-PT5M
ACTION:DISPLAY
DESCRIPTION:Reminder
END:VALARM
END:VEVENT
END:VCALENDAR
